BEGIN:VCALENDAR
VERSION:2.0
PRODID:-//eventon.com NONSGML v1.0//EN
CALSCALE:GREGORIAN
METHOD:PUBLISH
BEGIN:VEVENT
UID:69e7bd4b47a72
DTSTAMP:20260421T180915Z
DTSTART:20250322T230000Z
DTEND:20250323T105900Z
LOCATION:Sportheim SV Elpersheim Wallgraben 35\,  97990 Weikersheim
SUMMARY:Schlachtfest
DESCRIPTION:\nhttps://sv-elpersheim.de/events/schlachtfest-4/
URL:https://sv-elpersheim.de/events/schlachtfest-4/
END:VEVENT
END:VCALENDAR