BEGIN:VCALENDAR
VERSION:2.0
PRODID:-//eventon.com NONSGML v1.0//EN
CALSCALE:GREGORIAN
METHOD:PUBLISH
BEGIN:VEVENT
UID:69e6ae547fa71
DTSTAMP:20260420T225308Z
DTSTART:20231217T060000Z
DTEND:20231217T105000Z
LOCATION:Taubertalhalle Elpersheim Wallgraben 12\,  97990 Elpersheim
SUMMARY:Weihnachtsfeier
DESCRIPTION:Ein ereignisreiches JubilÃ¤umsjahr 2023 neigt sich dem Ende zu.
  Gemeinsam haben wir viel bewegt und blicken mit Stolz auf unser 75-jÃ¤hrig
 es Bestehen zurÃ¼ck. Gespickt mit sportlichen Erfolgen und dem absoluten HÃ
 ¶hepunkt\,  unserer JubilÃ¤umsveranstaltung im Rahmen des diesjÃ¤hrigen Pfi
 ngstfestes\,  haben wir ein auÃŸergewÃ¶hnliches Jahr fÃ¼r unseren SVE erleb
 t. Zum Abschluss unseres[..]\nhttps://sv-elpersheim.de/events/weihnachtsfei
 er-3/
URL:https://sv-elpersheim.de/events/weihnachtsfeier-3/
END:VEVENT
END:VCALENDAR