BEGIN:VCALENDAR
VERSION:2.0
PRODID:-//eventon.com NONSGML v1.0//EN
CALSCALE:GREGORIAN
METHOD:PUBLISH
BEGIN:VEVENT
UID:69e73a625529d
DTSTAMP:20260421T085042Z
DTSTART:20200503T130000Z
DTEND:20200503T235000Z
LOCATION:Sportgelände Neunkirchen Im Wolfental\,  97980 Bad Mergentheim
SUMMARY:TSV Althausen-Neunkirchen - SGM Markelsheim / Elpersheim 2 (RESERVE)
DESCRIPTION:TSV Althausen-Neunkirchen - SGM Markelsheim / Elpersheim 2 (RES
 ERVE)\nhttps://sv-elpersheim.de/events/tsv-althausen-neunkirchen-sgm-markel
 sheim-elpersheim-2-reserve/
URL:https://sv-elpersheim.de/events/tsv-althausen-neunkirchen-sgm-markelsheim-elpersheim-2-reserve/
END:VEVENT
END:VCALENDAR