BEGIN:VCALENDAR
VERSION:2.0
PRODID:-//eventon.com NONSGML v1.0//EN
CALSCALE:GREGORIAN
METHOD:PUBLISH
BEGIN:VEVENT
UID:69e60fbd1da54
DTSTAMP:20260420T113629Z
DTSTART:20200510T130000Z
DTEND:20200510T235000Z
LOCATION:Sportgelände TSV Markelsheim Unterer Wasen 5\,  97980 Bad Mergentheim
SUMMARY:SGM Markelsheim / Elpersheim 2 - TSV Laudenbach
DESCRIPTION:SGM Markelsheim / Elpersheim 2 - TSV Laudenbach\nhttps://sv-elp
 ersheim.de/events/sgm-markelsheim-elpersheim-2-tsv-laudenbach/
URL:https://sv-elpersheim.de/events/sgm-markelsheim-elpersheim-2-tsv-laudenbach/
END:VEVENT
END:VCALENDAR