BEGIN:VCALENDAR
VERSION:2.0
PRODID:-//eventon.com NONSGML v1.0//EN
CALSCALE:GREGORIAN
METHOD:PUBLISH
BEGIN:VEVENT
UID:69e739e61632e
DTSTAMP:20260421T084838Z
DTSTART:20190807T190000Z
DTEND:20190807T235000Z
LOCATION:Sportgelände Höpfingen Bruno-Störzer-Weg 5\,  74746 Höpfingen
SUMMARY:TSV Höpfingen - SGM Markelsheim / Elpersheim
DESCRIPTION:TSV Höpfingen - SGM Markelsheim / Elpersheim\nhttps://sv-elper
 sheim.de/events/tsv-hoepfingen-sgm-markelsheim-elpersheim/
URL:https://sv-elpersheim.de/events/tsv-hoepfingen-sgm-markelsheim-elpersheim/
END:VEVENT
END:VCALENDAR