BEGIN:VCALENDAR
VERSION:2.0
PRODID:-//eventon.com NONSGML v1.0//EN
CALSCALE:GREGORIAN
METHOD:PUBLISH
BEGIN:VEVENT
UID:69e6936b30bac
DTSTAMP:20260420T205819Z
DTSTART:20200524T150000Z
DTEND:20200524T235000Z
LOCATION:Sportplatz SV Elpersheim Wallgraben 35\,  97990 Elpersheim
SUMMARY:SGM Markelsheim / Elpersheim - SV Harthausen
DESCRIPTION:SGM Markelsheim / Elpersheim - SV Harthausen\nhttps://sv-elpers
 heim.de/events/sgm-markelsheim-elpersheim-sv-harthausen/
URL:https://sv-elpersheim.de/events/sgm-markelsheim-elpersheim-sv-harthausen/
END:VEVENT
END:VCALENDAR