BEGIN:VCALENDAR
VERSION:2.0
PRODID:-//eventon.com NONSGML v1.0//EN
CALSCALE:GREGORIAN
METHOD:PUBLISH
BEGIN:VEVENT
UID:69e7d044006c6
DTSTAMP:20260421T193012Z
DTSTART:20200426T150000Z
DTEND:20200426T235000Z
LOCATION:Sportplatz SV Elpersheim Wallgraben 35\,  97990 Elpersheim
SUMMARY:SGM Markelsheim / Elpersheim - TV Niederstetten
DESCRIPTION:SGM Markelsheim / Elpersheim - TV Niederstetten\nhttps://sv-elp
 ersheim.de/events/sgm-markelsheim-elpersheim-tv-niederstetten/
URL:https://sv-elpersheim.de/events/sgm-markelsheim-elpersheim-tv-niederstetten/
END:VEVENT
END:VCALENDAR