BEGIN:VCALENDAR
VERSION:2.0
PRODID:-//eventon.com NONSGML v1.0//EN
CALSCALE:GREGORIAN
METHOD:PUBLISH
BEGIN:VEVENT
UID:69eb332e20066
DTSTAMP:20260424T090902Z
DTSTART:20191123T143000Z
DTEND:20191123T235000Z
LOCATION:Sportgelände Mulfingen Bachgasse 94\,  74673 Mulfingen
SUMMARY:SGM Mulfingen/​Hollenbach 2 - SGM Markelsheim / Elpersheim
DESCRIPTION:SGM Mulfingen/​Hollenbach 2 - SGM Markelsheim / Elpersheim\nh
 ttps://sv-elpersheim.de/events/sgm-mulfingen-%e2%80%8bhollenbach-2-sgm-mark
 elsheim-elpersheim/
URL:https://sv-elpersheim.de/events/sgm-mulfingen-%e2%80%8bhollenbach-2-sgm-markelsheim-elpersheim/
END:VEVENT
END:VCALENDAR