BEGIN:VCALENDAR
VERSION:2.0
PRODID:-//eventon.com NONSGML v1.0//EN
CALSCALE:GREGORIAN
METHOD:PUBLISH
BEGIN:VEVENT
UID:69e78494ec83d
DTSTAMP:20260421T140716Z
DTSTART:20190720T190000Z
DTEND:20190720T010000Z
LOCATION:Ortsmitte Elpersheim Deutschordenstraße 23
SUMMARY:Linda Wirth - Live Musik
DESCRIPTION:Im Rahmen des 800 Jahre Festwochenendes in Elpersheim veranstal
 tet der SV Elpersheim in der Ortsmitte Live Musik mit großartigen und tale
 ntierten Musikern aus der Region. &#8222;Klein\,  aber oho&#8220;\,  sagen 
 wohl die meisten\,  die Linda zum ersten Mal hören und auf der Bühne erle
 ben\,  denn kaum jemand würden eine so kraftvolle[..]\nhttps://sv-elpershe
 im.de/events/linda-wirth-live-musik/
URL:https://sv-elpersheim.de/events/linda-wirth-live-musik/
END:VEVENT
END:VCALENDAR